BEGIN:VCALENDAR
VERSION:2.0
METHOD:PUBLISH
PRODID:-//imacoda.com//SPD-Web-O-Mat//EN
CALSCALE:GREGORIAN
BEGIN:VTIMEZONE
TZID:Europe/Berlin
BEGIN:DAYLIGHT
TZOFFSETFROM:+0100
RRULE:FREQ=YEARLY;BYMONTH=3;BYDAY=-1SU
DTSTART:19810329T020000
TZNAME:MESZ
TZOFFSETTO:+0200
END:DAYLIGHT
BEGIN:STANDARD
TZOFFSETFROM:+0200
RRULE:FREQ=YEARLY;BYMONTH=10;BYDAY=-1SU
DTSTART:19961027T030000
TZNAME:MEZ
TZOFFSETTO:+0100
END:STANDARD
END:VTIMEZONE
BEGIN:VEVENT
UID:20231024T110253Z-00000942246-LULU@www.bayernspd.de
CREATED:20231024T110253Z
LAST-MODIFIED:20231024T110253Z
DTSTAMP:20231024T110253Z
TRANSP:TRANSPARENT
DTSTART;TZID=Europe/Berlin:20231124T183000
DTEND;TZID=Europe/Berlin:20231124T183000
SUMMARY:AG Migration und Vielfalt - Bezirkskonferenz
LOCATION:Schwandorf
DESCRIPTION:Termin im Web (SPD-Bezirk Oberpfalz):\nhttps://spd-oberpfalz
 .de/termine/?id=942246
END:VEVENT
END:VCALENDAR
